BEGIN:VCALENDAR
VERSION:2.0
PRODID:-//Museumsverein Trofaiach - ECPv6.15.20//NONSGML v1.0//EN
CALSCALE:GREGORIAN
METHOD:PUBLISH
X-WR-CALNAME:Museumsverein Trofaiach
X-ORIGINAL-URL:https://www.museumsverein-trofaiach.at
X-WR-CALDESC:Veranstaltungen für Museumsverein Trofaiach
REFRESH-INTERVAL;VALUE=DURATION:PT1H
X-Robots-Tag:noindex
X-PUBLISHED-TTL:PT1H
BEGIN:VTIMEZONE
TZID:Europe/Vienna
BEGIN:DAYLIGHT
TZOFFSETFROM:+0100
TZOFFSETTO:+0200
TZNAME:CEST
DTSTART:20250330T010000
END:DAYLIGHT
BEGIN:STANDARD
TZOFFSETFROM:+0200
TZOFFSETTO:+0100
TZNAME:CET
DTSTART:20251026T010000
END:STANDARD
BEGIN:DAYLIGHT
TZOFFSETFROM:+0100
TZOFFSETTO:+0200
TZNAME:CEST
DTSTART:20260329T010000
END:DAYLIGHT
BEGIN:STANDARD
TZOFFSETFROM:+0200
TZOFFSETTO:+0100
TZNAME:CET
DTSTART:20261025T010000
END:STANDARD
BEGIN:DAYLIGHT
TZOFFSETFROM:+0100
TZOFFSETTO:+0200
TZNAME:CEST
DTSTART:20270328T010000
END:DAYLIGHT
BEGIN:STANDARD
TZOFFSETFROM:+0200
TZOFFSETTO:+0100
TZNAME:CET
DTSTART:20271031T010000
END:STANDARD
END:VTIMEZONE
BEGIN:VEVENT
DTSTART;TZID=Europe/Vienna:20260423T180000
DTEND;TZID=Europe/Vienna:20260423T193000
DTSTAMP:20260421T105227
CREATED:20260115T143608Z
LAST-MODIFIED:20260119T180318Z
UID:2552-1776967200-1776972600@www.museumsverein-trofaiach.at
SUMMARY:Was erzählst du: Steiermark? Froschgoscherl und Kittelblech
DESCRIPTION:Zu welchen Anlässen tragen Sie selbst ein Dirndl oder einen Steireranzug? Ist dieses Gewand für Sie ein Symbol für Tradition und Zugehörigkeit? Wie hat sich Trachtenmode mit der Zeit verändert und gibt es bestimmte Regeln\, wie man diese richtig zu tragen hat? Anhand der historischen Trachten aus der Sammlung des Stadtmuseums Trofaiach möchten wir mit Ihnen bei diesem Erzählcafé über Ihre eigenen Erfahrungen dazu sprechen. \n23. April\, 18 Uhr im Museumsdepot Trofaiach\, Silvester Heider Platz 1\, 8793 \n\n\n\nEine Kooperation zwischen dem Stadtmuseum Trofaiach\, der Kulturvermittlung am Universalmuseum Joanneum und dem Museumsforum Steiermark. \nMehr Infos: museum-joanneum.at/wissen-und-vernetzung/museumsforum/unser-programm/was-erzaehlst-du-steiermark \n\nAnmeldung: \nTelefon: +43 699 13005202 \n\n\nE-Mail: office@museumsverein-trofaiach.at
URL:https://www.museumsverein-trofaiach.at/veranstaltung/was-erzaehlst-du-steiermark-froschgoscherl-und-kittelblech/
LOCATION:Museumsdepot Trofaiach\, Silvester-Heider-Platz 1\, 8793 Trofaiach
CATEGORIES:K&K Events
ATTACH;FMTTYPE=image/jpeg:https://www.museumsverein-trofaiach.at/wp-content/uploads/2024/11/Stadtmuseum-Trofaiach-Museumsdepot-2024_Harald-Tauderer-17.jpg
END:VEVENT
END:VCALENDAR