BEGIN:VCALENDAR
VERSION:2.0
PRODID:-//Museumsverein Trofaiach - ECPv6.15.20//NONSGML v1.0//EN
CALSCALE:GREGORIAN
METHOD:PUBLISH
X-WR-CALNAME:Museumsverein Trofaiach
X-ORIGINAL-URL:https://www.museumsverein-trofaiach.at
X-WR-CALDESC:Veranstaltungen für Museumsverein Trofaiach
REFRESH-INTERVAL;VALUE=DURATION:PT1H
X-Robots-Tag:noindex
X-PUBLISHED-TTL:PT1H
BEGIN:VTIMEZONE
TZID:Europe/Vienna
BEGIN:DAYLIGHT
TZOFFSETFROM:+0100
TZOFFSETTO:+0200
TZNAME:CEST
DTSTART:20250330T010000
END:DAYLIGHT
BEGIN:STANDARD
TZOFFSETFROM:+0200
TZOFFSETTO:+0100
TZNAME:CET
DTSTART:20251026T010000
END:STANDARD
BEGIN:DAYLIGHT
TZOFFSETFROM:+0100
TZOFFSETTO:+0200
TZNAME:CEST
DTSTART:20260329T010000
END:DAYLIGHT
BEGIN:STANDARD
TZOFFSETFROM:+0200
TZOFFSETTO:+0100
TZNAME:CET
DTSTART:20261025T010000
END:STANDARD
BEGIN:DAYLIGHT
TZOFFSETFROM:+0100
TZOFFSETTO:+0200
TZNAME:CEST
DTSTART:20270328T010000
END:DAYLIGHT
BEGIN:STANDARD
TZOFFSETFROM:+0200
TZOFFSETTO:+0100
TZNAME:CET
DTSTART:20271031T010000
END:STANDARD
END:VTIMEZONE
BEGIN:VEVENT
DTSTART;TZID=Europe/Vienna:20260318T100000
DTEND;TZID=Europe/Vienna:20260318T170000
DTSTAMP:20260422T111546
CREATED:20260302T150958Z
LAST-MODIFIED:20260304T151946Z
UID:2575-1773828000-1773853200@www.museumsverein-trofaiach.at
SUMMARY:Das Stadtmuseum öffnet am 18. März
DESCRIPTION:Ab 18. März hat das Stadtmuseum Trofaiach wieder für euch geöffnet!\nÖffnungszeiten: Mittwoch und Samstag: 10-12 und 15-17 Uhr\n\nGruppenanfragen und Terminvereinbarung Besichtigung Museumsdepot und Getreidekasten Laintal unter:\n0699/13005202\n\n\nWir freuen uns auf euren Besuch!
URL:https://www.museumsverein-trofaiach.at/veranstaltung/das-stadtmuseum-oeffnet-am-18-maerz/
LOCATION:Stadtmuseum Schloss Stibichhofen\, Rebenburggasse 2\, Trofaiach\, Steiermark\, 8793\, Österreich
CATEGORIES:K&K Events
ATTACH;FMTTYPE=image/jpeg:https://www.museumsverein-trofaiach.at/wp-content/uploads/2026/03/Museumssaison-2026.jpg
END:VEVENT
BEGIN:VEVENT
DTSTART;TZID=Europe/Vienna:20260319T193000
DTEND;TZID=Europe/Vienna:20260319T220000
DTSTAMP:20260422T111546
CREATED:20260220T125114Z
LAST-MODIFIED:20260220T125449Z
UID:2561-1773948600-1773957600@www.museumsverein-trofaiach.at
SUMMARY:Adana Klezmer Band
DESCRIPTION:Liebe Kulturfreund*innen\, wir starten das heurige Kulturjahr in gewohnter Manier gleich mit einem außergewöhnlich musikalischen Sextett. Die Adana Klezmer Band ist eine Gruppe\, die seit über zwei Jahrzehnten traditionelle Klezmer- und Balkan-Stücke interpretiert und vor allem für ihre Spielfreude bekannt ist. Ihre Musik zeichnet sich durch den typischen Wechsel zwischen Fröhlichkeit und Melancholie aus. Bei uns im Depot zu hören am Donnerstag den 19. März um 19 Uhr 30. \nDie Besetzung des Sextetts: \nChristof Pfeiffer (Trompete\, Flügelhorn) \nWerner Reiter (Sopran- und Tenorsaxophon) \nBernd Kohlhofer (Akkordeon) \nGernot Lenk (E-Gitarre) \nGünther Plechinger (Kontrabass) \nKurt Maier (Schlagzeug\, Darabukka) \n  \nKarten (17\,00 € p.P.) und Reservierungen: 0699 13005202 oder wolfgang.slamnig@museum-trofaiach.at \n  \nHörprobe: www.youtube.com/watch?v=llBGIG1tps8
URL:https://www.museumsverein-trofaiach.at/veranstaltung/adana-klezmer-band/
LOCATION:Museumsdepot Trofaiach\, Silvester-Heider-Platz 1\, 8793 Trofaiach
CATEGORIES:K&K Events
ATTACH;FMTTYPE=image/jpeg:https://www.museumsverein-trofaiach.at/wp-content/uploads/2026/02/Adana-900-x600.jpg
END:VEVENT
END:VCALENDAR