BEGIN:VCALENDAR
VERSION:2.0
PRODID:-//Museumsverein Trofaiach - ECPv6.15.20//NONSGML v1.0//EN
CALSCALE:GREGORIAN
METHOD:PUBLISH
X-WR-CALNAME:Museumsverein Trofaiach
X-ORIGINAL-URL:https://www.museumsverein-trofaiach.at
X-WR-CALDESC:Veranstaltungen für Museumsverein Trofaiach
REFRESH-INTERVAL;VALUE=DURATION:PT1H
X-Robots-Tag:noindex
X-PUBLISHED-TTL:PT1H
BEGIN:VTIMEZONE
TZID:Europe/Vienna
BEGIN:DAYLIGHT
TZOFFSETFROM:+0100
TZOFFSETTO:+0200
TZNAME:CEST
DTSTART:20250330T010000
END:DAYLIGHT
BEGIN:STANDARD
TZOFFSETFROM:+0200
TZOFFSETTO:+0100
TZNAME:CET
DTSTART:20251026T010000
END:STANDARD
BEGIN:DAYLIGHT
TZOFFSETFROM:+0100
TZOFFSETTO:+0200
TZNAME:CEST
DTSTART:20260329T010000
END:DAYLIGHT
BEGIN:STANDARD
TZOFFSETFROM:+0200
TZOFFSETTO:+0100
TZNAME:CET
DTSTART:20261025T010000
END:STANDARD
BEGIN:DAYLIGHT
TZOFFSETFROM:+0100
TZOFFSETTO:+0200
TZNAME:CEST
DTSTART:20270328T010000
END:DAYLIGHT
BEGIN:STANDARD
TZOFFSETFROM:+0200
TZOFFSETTO:+0100
TZNAME:CET
DTSTART:20271031T010000
END:STANDARD
END:VTIMEZONE
BEGIN:VEVENT
DTSTART;TZID=Europe/Vienna:20260509T100000
DTEND;TZID=Europe/Vienna:20260509T120000
DTSTAMP:20260421T150041
CREATED:20260320T084755Z
LAST-MODIFIED:20260320T084916Z
UID:2582-1778320800-1778328000@www.museumsverein-trofaiach.at
SUMMARY:Maipfeiferlschnitzen
DESCRIPTION:Wie schnitzt man ein Maipfeiferl? Komm am 09. Mai ab 10 Uhr in den Park vom Schloss Stibichhofen! Am besten\, du bringst auch gleich dein Schnitzmesser mit und dann legen wir los! Schritt für Schritt soll aus einem Haselnusszweig ein Pfeiferl entstehen. Bring auch gleich deine Familie und Freund*innen mit! Das Team des Museumsvereins Trofaiach freut sich auf euch!
URL:https://www.museumsverein-trofaiach.at/veranstaltung/maipfeiferlschnitzen/
CATEGORIES:K&K Events
ATTACH;FMTTYPE=image/jpeg:https://www.museumsverein-trofaiach.at/wp-content/uploads/2025/05/Maipfeiferl4-scaled-e1773996543875.jpg
ORGANIZER;CN="Museumsverein Trofaiach":MAILTO:wolfgang.slamnig@museum-trofaiach.at
END:VEVENT
END:VCALENDAR